Workbook

Sheet Anleitung
A3: KomPo7 verankern
A4: Auswertung "Mein Berufsfeld"
A6: Das vorliegende Dokument dient der Auswertung des Berufsfeldtests "Mein Berufsfeld". Die von den Schülerinnen und Schülern ausgefüllten Bögen werden in die Eingabemaske unter dem Reiter "Eingaben" übertragen. Anschließend erzeugen sich automatisch die Ergebnisse für die entsprechende Schülerin / den entsprechenden Schüler unter dem Reiter "Ergebnisseite". Für jede Schülerin und für jeden Schüler muss ein separates Dokument ausgefüllt werden.
A8: Anleitung
A10: Füllen Sie zunächst unter dem Reiter "Eingaben" im oberen Teil der Tabelle die gelb hinterlegten Felder aus [Vorname, Nachname, Geschlecht usw.]. Anschließend übertragen Sie die Einschätzungen der Schülerin bzw. des Schülers von dem Testbogen nach der folgenden Systematik in die Auswertungsmatrix [blau hinterlegte Felder]:
B12: ="= 1" -> = 1
B14: ="= 2" -> = 2
B16: ="= 3" -> = 3
A18: Die korrekte Zuordnung der Einschätzungen in die blau hinterlegten Eingabefelder erfolgt durch die Nummerierung der Fotos auf den Testbögen.
A20: Nach Eingabe der vollständigen Daten für die Fotos Nr. 1 bis 97 werden die Ergebnisse der Schülerin / des Schülers automatisch als Balkendiagramm unter dem Reiter "Ergebnisseite" eingefügt. Die Balken zeigen jeweils die erreichte anteilige Ausprägung im Verhältnis zum möglichen Maximalwert für die einzelnen Berufsfelder. Die 15 Berufsfelder werden automatisch absteigend nach der Wertausprägung sortiert.

Sheet Eingaben
A1: Vorname:
A2: Nachname: | F2: ="= 1" -> = 1
A3: Geschlecht:
A4: Schule, Ort: | F4: ="= 2" -> = 2
A5: Klasse:
A6: Testdatum: | F6: ="= 3" -> = 3
B8: Bild-Nr. | C8: Einschätzung | D8: Beschreibung Tätigkeit
B9: 1 | D9: Ich installiere Sanitär-, Heizungs- und Klimatechnik bei Kunden und bearbeite Rohre und Bleche aus Metall oder Kunststoff mit Werkzeug.
B10: 2 | D10: Ich plane Arbeitsabläufe im Hotel, begrüße und verabschiede Gäste an der Rezeption und vergebe Zimmer.
B11: 3 | D11: Ich arbeite in einem Buchladen, sortiere Bücher in Regale ein und präsentiere diese ansprechend für die Kundinnen und Kunden.
B12: 4 | D12: Ich arbeite in einem Labor und überprüfe chemikalische Stoffe oder Produkte. Ich untersuche chemische Prozesse und stelle Stoffgemische her. Dabei halte ich mich an Sicherheits-, Gesundheits- und Umweltvorschriften.
B13: 5 | D13: Ich bereite kleine Snacks, Mahlzeiten oder Backwaren zu. Ich präsentiere die Ware ansprechend, berate Kundinnen und Kunden und verkaufe die Produkte.
B14: 6 | D14: Im Lager erfasse ich mit Hilfe von Computern eingehende und ausgehende Ware, prüfe deren Zustand und lagere sie sachgerecht.
B15: 7 | D15: Ich fertige Zeichnungen und Unterlagen an, um beispielsweise die Verkabelung in Gebäuden oder technischen Anlagen zu planen.
B16: 8 | D16: Ich installiere elektrische Bauteile oder Anlagen in betrieblichen Gebäuden und prüfe diese.
B17: 9 | D17: Ich dekoriere Räume, verlege Bodenbeläge, tapeziere Wände und erneuere die Polsterung von Möbelstücken.
B18: 10 | D18: Ich gestalte Gärten, Parkanlagen und Außenanlagen aller Art. Ich pflastere Wege und Plätze und baue Treppen und Zäune.
B19: 11 | D19: Ich bearbeite Metall und stelle daraus verschiedene Teile wie beislpeislwiese Fahrzeugrahmen und Karosserien für Fahrzeuge her. Ich montiere und repariere Bauteile.
B20: 12 | D20: Ich plane die Fertigung von Teilen aus Kunststoff und bearbeite diese nach. Ich verpacke die fertigen Produkte und bereite sie für den Versand vor.
... B63: 55 | D63: Ich baue Fahrräder zusammen, warte und repariere diese oder passe sie den Wünschen der Kunden an.

Sheet Ergebnisseite
A3: KomPo7 verankern
A4: Mein Berufsfeld │Ergebnisübersicht
A6: Nachname, Vorname: | C6: =CONCATENATE(Eingaben!B2, ", ", Eingaben!B1) -> ,
A8: Name der Schule, Ort: | C8: =Eingaben!B4 -> 0
A10: Klasse: | C10: =Eingaben!B5 -> 0
A12: =CONCATENATE(" Ergebnisübersicht vom ", Eingaben!B6) -> Ergebnisübersicht vom
A13: =CONCATENATE("Bei der Durchführung von „Mein Berufsfeld“ hat ", Eingaben!B1, " Bilder von typischen Tätigkeiten verschiedener Berufe bewertet. ", IF(Eingaben!B3="männlich", "Seine", "Ihre"), " Antworten wurden ausgewertet und verschiedenen Berufsfeldern zugeordnet. Die Berufsfelder, die ", IF(Eingaben!B3="männlich", "er", "sie"), " am höchsten bewertet hat, stehen am Anfang der Übersicht.") -> Bei der Durchführung von „Mein Berufsfeld“ hat Bilder von typischen Tätigkeiten verschiedener Berufe bewertet. Ihre Antworten wurden ausgewertet und verschiedenen Berufsfeldern zugeordnet. Die Berufsfelder, die sie am höchsten bewertet hat, stehen am Anfang der Übersicht.
B18: =Nebenrechnung!F119 -> #VALUE! | C18: =Nebenrechnung!I119 -> #VALUE!
B20: =Nebenrechnung!F120 -> #VALUE! | C20: =Nebenrechnung!I120 -> #VALUE!
B22: =Nebenrechnung!F121 -> #VALUE! | C22: =Nebenrechnung!I121 -> #VALUE!
B24: =Nebenrechnung!F122 -> #VALUE! | C24: =Nebenrechnung!I122 -> #VALUE!
B26: =Nebenrechnung!F123 -> #VALUE! | C26: =Nebenrechnung!I123 -> #VALUE!
B28: =Nebenrechnung!F124 -> #VALUE! | C28: =Nebenrechnung!I124 -> #VALUE!
B30: =Nebenrechnung!F125 -> #VALUE! | C30: =Nebenrechnung!I125 -> #VALUE!
B32: =Nebenrechnung!F126 -> #VALUE! | C32: =Nebenrechnung!I126 -> #VALUE!
B34: =Nebenrechnung!F127 -> #VALUE! | C34: =Nebenrechnung!I127 -> #VALUE!
B36: =Nebenrechnung!F128 -> #VALUE! | C36: =Nebenrechnung!I128 -> #VALUE!
B38: =Nebenrechnung!F129 -> #VALUE! | C38: =Nebenrechnung!I129 -> #VALUE!
B40: =Nebenrechnung!F130 -> #VALUE! | C40: =Nebenrechnung!I130 -> #VALUE!
B42: =Nebenrechnung!F131 -> #VALUE! | C42: =Nebenrechnung!I131 -> #VALUE!
B44: =Nebenrechnung!F132 -> #VALUE! | C44: =Nebenrechnung!I132 -> #VALUE!
B46: =Nebenrechnung!F133 -> #VALUE! | C46: =Nebenrechnung!I133 -> #VALUE!
A48: Weitere Informationen
A49: =CONCATENATE("Die Ergebnisse dienen der beruflichen Orientierung. Sie zeigen zum Beispiel, in welche Richtung es bei der beruflichen Orientierung oder bei der Wahl eines Praktikums gehen kann. Weitere Informationen zu oben genannten Berufsfeldern findet ", Eingaben!B1, " auf der Seite der Bundesagentur für Arbeit www.planet-beruf.de.") -> Die Ergebnisse dienen der beruflichen Orientierung. Sie zeigen zum Beispiel, in welche Richtung es bei der beruflichen Orientierung oder bei der Wahl eines Praktikums gehen kann. Weitere Informationen zu oben genannten Berufsfeldern findet auf der Seite der Bundesagentur für Arbeit www.planet-beruf.de.

Sheet Nebenrechnung
A1: 1 | B1: =IF(Eingaben!C9="", "", 3-Eingaben!C9)
A2: 2 | B2: =IF(Eingaben!C10="", "", 3-Eingaben!C10)
A3: 3 | B3: =IF(Eingaben!C11="", "", 3-Eingaben!C11)
A4: 4 | B4: =IF(Eingaben!C12="", "", 3-Eingaben!C12)
A5: 5 | B5: =IF(Eingaben!C13="", "", 3-Eingaben!C13)
A6: 6 | B6: =IF(Eingaben!C14="", "", 3-Eingaben!C14)
A7: 7 | B7: =IF(Eingaben!C15="", "", 3-Eingaben!C15)
A8: 8 | B8: =IF(Eingaben!C16="", "", 3-Eingaben!C16)
A9: 9 | B9: =IF(Eingaben!C17="", "", 3-Eingaben!C17)
A10: 10 | B10: =IF(Eingaben!C18="", "", 3-Eingaben!C18)
A11: 11 | B11: =IF(Eingaben!C19="", "", 3-Eingaben!C19)
A12: 12 | B12: =IF(Eingaben!C20="", "", 3-Eingaben!C20)
... A55: 55 | B55: =IF(Eingaben!C63="", "", 3-Eingaben!C63)
A56: 56 | B56: =IF(Eingaben!#REF!="", "", 3-Eingaben!#REF!) -> #REF!
A57: 57 | B57: =IF(Eingaben!#REF!="", "", 3-Eingaben!#REF!) -> #REF!
A58: 58 | B58: =IF(Eingaben!#REF!="", "", 3-Eingaben!#REF!) -> #REF!
A59: 59 | B59: =IF(Eingaben!#REF!="", "", 3-Eingaben!#REF!) -> #REF!
A60: 60 | B60: =IF(Eingaben!#REF!="", "", 3-Eingaben!#REF!) -> #REF!
A61: 61 | B61: =IF(Eingaben!#REF!="", "", 3-Eingaben!#REF!) -> #REF!
A62: 62 | B62: =IF(Eingaben!#REF!="", "", 3-Eingaben!#REF!) -> #REF!
A63: 63 | B63: =IF(Eingaben!#REF!="", "", 3-Eingaben!#REF!) -> #REF!
A64: 64 | B64: =IF(Eingaben!#REF!="", "", 3-Eingaben!#REF!) -> #REF!
A65: 65 | B65: =IF(Eingaben!#REF!="", "", 3-Eingaben!#REF!) -> #REF!
A66: 66 | B66: =IF(Eingaben!#REF!="", "", 3-Eingaben!#REF!) -> #REF!
A67: 67 | B67: =IF(Eingaben!#REF!="", "", 3-Eingaben!#REF!) -> #REF!
... A97: 97 | B97: =IF(Eingaben!#REF!="", "", 3-Eingaben!#REF!) -> #REF!
C100: Berufsfeld | D100: Wert | E100: Hilfszahl
C101: Bau, Architektur, Vermessung | D101: =B1+B29+B37+B7+B47+B17 -> #VALUE! | E101: =D101+0.00015 -> #VALUE!
C102: Dienstleistung | D102: =B2+B13+B23+B33+B30+B48 -> #VALUE! | E102: =D102+0.00014 -> #VALUE!
C103: Elektro | D103: =B43+B24+B8+B18+B49+B7 -> #VALUE! | E103: =D103+0.00013 -> #VALUE!
C104: Gesundheit | D104: =B14+B31+B50+B13+B24+B36 -> #VALUE! | E104: =D104+0.00012 -> #VALUE!
C105: IT, Computer | D105: =B25+B32+B38+B51+B13+B49 -> #VALUE! | E105: =D105+0.00011 -> #VALUE!
C106: Kunst, Kultur und Gestaltung | D106: =B34+B9+B26+B44+B19+B39 -> #VALUE! | E106: =D106+0.0001 -> #VALUE!
C107: Landwirtschaft, Natur, Umwelt | D107: =B40+B10+B27+B45+B20+B13 -> #VALUE! | E107: =D107+0.00009 -> #VALUE!
C108: Medien | D108: =B35+B3+B13+B38+B44+B19 -> #VALUE! | E108: =D108+0.00008 -> #VALUE!
C109: Metall, Maschinenbau | D109: =B52+B11+B41+B18+B43+B37 -> #VALUE! | E109: =D109+0.00007 -> #VALUE!
C110: Naturwissenschaften | D110: =B4+B53+B21+B15+B18+B13 -> #VALUE! | E110: =D110+0.00006 -> #VALUE!
C111: Produktion, Fertigung | D111: =B22+B5+B12+B46+B29+B37 -> #VALUE! | E111: =D111+0.00005 -> #VALUE!
C112: Soziales, Pädagogik | D112: =B16+B54+B36+B13+B31+B50 -> #VALUE! | E112: =D112+0.00004 -> #VALUE!
C113: Technik, Technologiefelder | D113: =B42+B55+B47+B15+B11+B7 -> #VALUE! | E113: =D113+0.00003 -> #VALUE!
...
