Workbook

Sheet Start
B2: Buchungskreis 2300, Schulen
B3: Startchancen-Programm
B4: Planungshilfe zur Abwicklung der Startchancen-Budgets
B5: Säule II
B7: Hauhaltsjahr 2025
C9: Anwendungshinweise
C14: 1. Vorbereitung der Planungshilfe
C19: 2. Planung der Einzelmaßnahmen
C29: 3. Aktuelle Übersicht Planung

Sheet Hinweise
B2: Hinweise zur Bedienung der Anwendung
B4: Allgemein
B6: Über die jeweiligen Schaltflächen gelangen Sie in das gewünschte Register.
B7: Innerhalb der Register sind editierbare Felder gelb hinterlegt.
B9: Menupunkt 1: Vorbereitung der Planungshilfe
B11: Wählen Sie zunächst Ihre vierstellige Schulnummer aus.
B12: Erfassen Sie im Anschluss die zugewiesenen Teilbudgets gemäß Zuweisung.
B14: Menupunkt 2: Planung der Einzelmaßnahmen
B15: Planung von dezentralen, schulbezogenen Maßnahmen
B17: Erfassen Sie eine Kurzbezeichnung sowie eine kurze aber aussagefähige Beschreibung
B18: der geplanten Maßnahme.
B19: Geben Sie den geplanten Mittelbedarf für das Haushaltsjahr in € an.
... B38: Geben Sie den geplanten Mittelbedarf für das Haushaltsjahr in € an.

Sheet Grunddaten
C4: Startchancen-Programm
C5: Erfassungsmaske Grunddaten
B7: Schulauswahl | C7: 3111 | F7: =IF(VLOOKUP(C7,Tabelle3!A2:D300,4)="1. Tranche","JA","NEIN") -> NEIN
C9: =IFERROR(VLOOKUP(C7,Tabelle3!$A$2:$C$300,2,0),"") -> Gruneliusschule
C10: =IFERROR(VLOOKUP(C7,Tabelle3!$A$2:$C$300,3,0),"") -> Frankfurt am Main
C12: Zugewiesenes Budget Haushaltsjahr 2025
C13: =IF(F7="JA","(inkl. übertragener Restmittel aus 2024)","")
B14: dezentrales Chancenbudget | C14: 9500
B16: zentrales Chancenbudget | C16: 15700

Sheet Übersicht Budget
B4: Startchancen-Programm
B5: Budgetübersicht Haushaltsjahr 2025
B6: =Grunddaten!$C$7&", "&Grunddaten!$C$9&", "&Grunddaten!$C$10 -> 3111, Gruneliusschule, Frankfurt am Main
B10: A) dezentrales Startchancen-Budget | E10: B) Zentrales Startchancen-Budget
B12: zugewiesenes Budget | C12: =Grunddaten!C14 -> 9500 | E12: zugewiesenes Budget | F12: =Grunddaten!C16 -> 15700
B14: Anzahl geplanter Maßnahmen | C14: =COUNTIF('dezentrale Maßnahmen'!E7:E31,">0") -> 3 | E14: Anzahl geplanter Maßnahmen | F14: =COUNTIF('Zentrale Katalogmaßnahmen'!D7:D22,">0") -> 3
B16: erforderlicher Mittelbedarf | C16: ='dezentrale Maßnahmen'!E32 -> 3 | E16: erforderlicher Mittelbedarf | F16: ='Zentrale Katalogmaßnahmen'!D23 -> 12600
B18: freie / noch verfügbare Mittel | C18: =C12-C16 -> 9497 | E18: freie / noch verfügbare Mittel | F18: =F12-F16 -> 3100
B20: =IF(C18<0,"Zugewiesenes Budget ist überschritten! Planung muss angepasst werden.","") | E20: =IF(F18<0,"Zugewiesenes Budget ist überschritten! Planung muss angepasst werden.","")

Sheet dezentrale Maßnahmen
A1: Startchancen-Programm
A2: Planungsmaske: dezentrales Chancenbudget | D2: =IF(E32>E4,"Das zugewiesene Budget ist überschritten! Bitte die Planung korrigieren.","")
A3: =Grunddaten!$C$7&", "&Grunddaten!$C$9&", "&Grunddaten!$C$10 -> 3111, Gruneliusschule, Frankfurt am Main
D4: zugewiesenes Budget: | E4: =Grunddaten!C14 -> 9500
B5: nach Genehmigung
A6: lfd. Nr. | B6: Maßnahmen-ID / SCP-Nr. | C6: Kurzbezeichnung Maßnahme | D6: Beschreibung | E6: geplanter Mittelbedarf
A7: 1 | C7: Fortbildung Qua Math kostenlos | D7: QuaMath - Qualitätssteigerung der mathematischen Bildung von der Kita bis zum Abitur | E7: 1
A8: 2 | C8: Fortbildung Mathematik Anfangsunterricht kostenlos | D8: Mathematik für fachfremd unterrichtende Lehrkräfte in der Grundschule: Mathematik im Anfangsunterricht | E8: 1
A9: 3 | C9: Fortbildung Deutsch LRS kostenlos | D9: Lese-Rechtschreib-Schwäche: Begrifflichkeiten, Diagnostik, Förderung | E9: 1
A10: 4
A11: 5
A12: 6
A13: 7
A14: 8
A15: 9
A16: 10
A17: 11
A18: 12
A19: 13
A20: 14
A21: 15
... A31: 25
E32: =SUM(E7:E31) -> 3

Sheet Zentrale Katalogmaßnahmen
A1: Startchancen-Programm
A2: Planungsmaske: Zentrales Chancenbudget | C2: =IF(D23>D4,"Das zugewiesene Budget ist überschritten! Bitte die Planung korrigieren.","")
A3: =Grunddaten!$C$7&", "&Grunddaten!$C$9&", "&Grunddaten!$C$10 -> 3111, Gruneliusschule, Frankfurt am Main
C4: zugewiesenes Budget: | D4: =Grunddaten!C16 -> 15700
A6: Maßnahmen-ID / SCP-Nr. | B6: Bezeichung Katalogleistung | C6: Beschreibung | D6: geplanter Mittelbedarf
A7: SCP-K01 | B7: Einsatz einer FSJ-Kraft | C7: Unterstützung der Schülerinnen und Schüler durch versch. Einsatzmöglichkeiten. Dadurch können Lehrkräfte entlastet werden. Ab November 2025 | D7: 1700
A8: SCP-K06 | B8: Trau Dich! | C8: Theaterpädagogische Angebote gegen sexualisierte Gewalt Interaktives Theaterstück gegen sexualisierte Gewalt. Im Rahmen des Theaterstücks findet eine kindgerechte Vermittlung sensibler Themen statt. | D8: 7900
A9: SCP-K13 | B9: FobiZZ | C9: fobizz ist eine browserbasierte Anwendung, die den Zugang zu Fortbildung, KI-basierten Tools und Unterrichtsmaterial bietet. Diese Anwendung kann zur Unterstützung im Unterricht und bei der Planung und Organisation von Unterricht eingesetzt werden. Die Schülerinnen und Schüler können von den Lehrkräften temporäre Zugänge erhalten und dadurch Arbeitsaufträge ausführen oder mit einer individuell vorbereiteten KI chatten. | D9: 3000
D23: =SUM(D7:D22) -> 12600

Sheet Tabelle3
A1: Schulnummer | B1: Name | C1: Ort | D1: Tranche
A2: 3100 | B2: Meisterschule | C2: Frankfurt am Main | D2: 1. Tranche
A3: 3102 | B3: Münzenbergerschule | C3: Frankfurt am Main | D3: 2. Tranche
A4: 3109 | B4: Walter-Kolb-Schule | C4: Frankfurt am Main | D4: 2. Tranche
A5: 3111 | B5: Gruneliusschule | C5: Frankfurt am Main | D5: 2. Tranche
A6: 3121 | B6: Günderrode-Schule | C6: Frankfurt am Main | D6: 1. Tranche
A7: 3123 | B7: Ackermannschule | C7: Frankfurt am Main | D7: 1. Tranche
A8: 3124 | B8: Adolf-Reichwein-Schule | C8: Frankfurt am Main | D8: 1. Tranche
A9: 3129 | B9: Berthold-Otto-Schule | C9: Frankfurt am Main | D9: 1. Tranche
A10: 3133 | B10: Friedrich-Fröbel-Schule | C10: Frankfurt am Main | D10: 2. Tranche
A11: 3138 | B11: Eichendorffschule | C11: Frankfurt am Main | D11: 2. Tranche
A12: 3155 | B12: Erich Kästner Schule | C12: Frankfurt am Main | D12: 2. Tranche
A13: 3156 | B13: Brentanoschule | C13: Frankfurt am Main | D13: 1. Tranche
... A300: 9722 | B300: Adolf-Reichwein-Schule | C300: Marburg | D300: 2. Tranche
